BEGIN:VCALENDAR
VERSION:2.0
PRODID:-//Bandh Foundation - ECPv6.2.4//NONSGML v1.0//EN
CALSCALE:GREGORIAN
METHOD:PUBLISH
X-ORIGINAL-URL:https://www.bandhfoundation.org
X-WR-CALDESC:Events for Bandh Foundation
REFRESH-INTERVAL;VALUE=DURATION:PT1H
X-Robots-Tag:noindex
X-PUBLISHED-TTL:PT1H
BEGIN:VTIMEZONE
TZID:UTC
BEGIN:STANDARD
TZOFFSETFROM:+0000
TZOFFSETTO:+0000
TZNAME:UTC
DTSTART:20250101T000000
END:STANDARD
END:VTIMEZONE
BEGIN:VEVENT
DTSTART;VALUE=DATE:20251122
DTEND;VALUE=DATE:20251123
DTSTAMP:20260420T002345
CREATED:20260222T153552Z
LAST-MODIFIED:20260222T153552Z
UID:7715-1763769600-1763855999@www.bandhfoundation.org
SUMMARY:Food Distribution to Vraddhashram
DESCRIPTION:Today\, on 22 November 2025\, Shri Sanjay Patil\, an active volunteer\, well-wisher of “Bandh Foundation” Kolhapur\, and retired forest officer visited the “Vriddha Seva Ashram” run by Smt. Vimal Sutar’s “Seva Foundation” Kolhapur in Vandur\, Taluka-Kagal\, Dist- Kolhapur on the occasion of his granddaughter Ms. Avni’s birthday and gave 10 kg of wheat\, 5 kg of rice\, laddus and useful sarees\, etc. to the women of the old age home there.\nOn this occasion\, the old age home operator Smt. Vimal Sutar thanked Shri Sanjay Patil and his family.
URL:https://www.bandhfoundation.org/event/food-distribution-to-vraddhashram/
END:VEVENT
BEGIN:VEVENT
DTSTART;VALUE=DATE:20251128
DTEND;VALUE=DATE:20251129
DTSTAMP:20260420T002345
CREATED:20260222T154529Z
LAST-MODIFIED:20260222T154529Z
UID:7718-1764288000-1764374399@www.bandhfoundation.org
SUMMARY:School Doners Felicitation and Plant Distribution Drive
DESCRIPTION:oday\, on November 28\, 2025\, at the invitation of Sahyagiri Education Society\, New English School\, Agashivnagar\, Malkapur Tal. Karad\, District Satara\, attended the Mahatma Jyotirao Phule Punyatithi and Donors’ felicitation Ceremony organized by them as the President and felicitated the donors who helped the school.\nTulsi saplings were distributed to donors and attendees of the program through “Bandh Foundation” Kolhapur.\nThe program was attended by the Board of Directors of New English School\, Agashivnagar\, Secretary Shri Pralhad Salunkhe\, President of “Bandh Foundation” Kolhapur Shri Arun Patil\, Dr. Jaysingrao Pawar\, Shri Rahul Jamdar of Rotary Club of Malkapur\, donors\, teaching and non-teaching staff\, students and parents
URL:https://www.bandhfoundation.org/event/school-doners-felicitation-and-plant-distribution-drive/
END:VEVENT
END:VCALENDAR