BEGIN:VCALENDAR
VERSION:2.0
PRODID:-//Bandh Foundation - ECPv6.2.4//NONSGML v1.0//EN
CALSCALE:GREGORIAN
METHOD:PUBLISH
X-ORIGINAL-URL:https://www.bandhfoundation.org
X-WR-CALDESC:Events for Bandh Foundation
REFRESH-INTERVAL;VALUE=DURATION:PT1H
X-Robots-Tag:noindex
X-PUBLISHED-TTL:PT1H
BEGIN:VTIMEZONE
TZID:UTC
BEGIN:STANDARD
TZOFFSETFROM:+0000
TZOFFSETTO:+0000
TZNAME:UTC
DTSTART:20250101T000000
END:STANDARD
END:VTIMEZONE
BEGIN:VEVENT
DTSTART;TZID=UTC:20250910T080000
DTEND;TZID=UTC:20250910T170000
DTSTAMP:20260420T035246
CREATED:20251005T075840Z
LAST-MODIFIED:20251005T075840Z
UID:7685-1757491200-1757523600@www.bandhfoundation.org
SUMMARY:Benches Donation To School
DESCRIPTION:Sahyagiri Shikshan Sanstha\, Agashivnagar\, New English School\, Agashivnagar\, Malkapur Taluka Karad Dist Satara\, a high school run by the sanstha\, had demanded benches for the students of that school to sit on.\n   Considering their demand\, ten benches were provided to the school on 10th September 2025 through “Bandh Foundation”\, Kolhapur.\n      All the teachers of the school\, the founder president of “Bandh Foundation Kolhapur” Shri Arun Patil\, the founder of Sahyagiri Shikshan Sanstha\, Salunkhe Sir\, and the students of the school were present at the program.\nhttps://www.bandhfoundation.org/wp-content/uploads/2025/10/a2df3b1a-ac2b-48e1-b74a-2e8751c28603.mp4
URL:https://www.bandhfoundation.org/event/benches-donation-to-school/
LOCATION:Sahyagiri Shikshan Sanstha\, Agashivnagar\, New English School\, Agashivnagar\, Malkapur Taluka Karad Dist Satara\,
ORGANIZER;CN="Bandh Foundation":MAILTO:contact@bandhfoundation.org
END:VEVENT
BEGIN:VEVENT
DTSTART;TZID=UTC:20250912T080000
DTEND;TZID=UTC:20250912T170000
DTSTAMP:20260420T035246
CREATED:20251005T080342Z
LAST-MODIFIED:20251005T080342Z
UID:7689-1757664000-1757696400@www.bandhfoundation.org
SUMMARY:Grocery Donation To School
DESCRIPTION:On 12 September 2025\, visited Rajarshi Shahu Education Board’s \,Shivaji Vidyaniketan and Junior College\, Ganeshwadi\, Taluka Karveer\, District Kolhapur\, along with Shri. Subhash Mandlik\, Kolhapur.\nFounder Shri Namdev Yadav said that he started this school since 2008. He said that he has not received any grant from the government. About 50 students are residents and the rest come from nearby rural areas of the school. Their initiative is very commendable. He requested to help the school as much as possible.\nConsidering their demand\, 120 kg of wheat\, 60 kg of rice\, 45 liters (three cans) of edible oil\, 15 kg of poha\, 15 kg of semolina and 10 kg of suji etc. were provided to about 50 residential students of the School \, through “Bandh Foundation” Kolhapur\, enough food grains to last for about a month.\nThe program was attended by the founder president of “Bandh Foundation”\, Mr. Arun Patil\, Mr. Subhash Mandlik\, all the teachers and students of the school.
URL:https://www.bandhfoundation.org/event/grocery-donation-to-school/
LOCATION:Rajarshi Shahu Education Board’s \,Shivaji Vidyaniketan and Junior College\, Ganeshwadi\, Taluka Karveer\, District Kolhapur\,
ORGANIZER;CN="Bandh Foundation":MAILTO:contact@bandhfoundation.org
END:VEVENT
BEGIN:VEVENT
DTSTART;TZID=UTC:20250929T080000
DTEND;TZID=UTC:20250929T170000
DTSTAMP:20260420T035246
CREATED:20251005T080724Z
LAST-MODIFIED:20251005T080724Z
UID:7692-1759132800-1759165200@www.bandhfoundation.org
SUMMARY:Marathwada Flood Relief
DESCRIPTION:Today\, following the appeal of Hon. MLA Satej Patil\, Kolhapur\,to provide a helping hand to the families of Marathwada\, affected by the heavy rains\, “Bandh Foundation” Kolhapur \, with the help of eight retired forest officers\, “80 school bags”\, were given for distribution \,at Congress Bhavan Kolhapur\,\nOn this occasion\, Hon. MLA Satej Patil\, Retired Forest Officer\, Shri Prakash Bagewadi\, Founder President of “Bandh Foundation”\, Shri Arun Patil\, Member Shri Omkar Patil were present.
URL:https://www.bandhfoundation.org/event/marathwada-flood-relief/
LOCATION:Kolhapur
ORGANIZER;CN="Bandh Foundation":MAILTO:contact@bandhfoundation.org
END:VEVENT
END:VCALENDAR