BEGIN:VCALENDAR
VERSION:2.0
PRODID:-//Bandh Foundation - ECPv6.2.4//NONSGML v1.0//EN
CALSCALE:GREGORIAN
METHOD:PUBLISH
X-ORIGINAL-URL:https://www.bandhfoundation.org
X-WR-CALDESC:Events for Bandh Foundation
REFRESH-INTERVAL;VALUE=DURATION:PT1H
X-Robots-Tag:noindex
X-PUBLISHED-TTL:PT1H
BEGIN:VTIMEZONE
TZID:UTC
BEGIN:STANDARD
TZOFFSETFROM:+0000
TZOFFSETTO:+0000
TZNAME:UTC
DTSTART:20250101T000000
END:STANDARD
END:VTIMEZONE
BEGIN:VEVENT
DTSTART;TZID=UTC:20250801T080000
DTEND;TZID=UTC:20250801T170000
DTSTAMP:20260420T071127
CREATED:20251004T114300Z
LAST-MODIFIED:20251004T114300Z
UID:7639-1754035200-1754067600@www.bandhfoundation.org
SUMMARY:Plant Distribution
DESCRIPTION:Today\, on the occasion of Lokshahir\, Sahitya Ratna\, Annabhau Sathe Jayanti \,In a programme arranged by Annabhau Sathe Development board from Rajendra Nagar\, Kolhapur\, Kadipatta plants were distributed to the people of Rajendra Nagar and surrounding areas. \nA large number of Bandh Foundation volunteers including Arun Patil\, president of the foundation\, Omkar Patil\, and members of the board\, were present on the occasion.
URL:https://www.bandhfoundation.org/event/plant-distribution/
LOCATION:Rajendra Nagar\, Kolhapur
ORGANIZER;CN="Bandh Foundation":MAILTO:contact@bandhfoundation.org
END:VEVENT
BEGIN:VEVENT
DTSTART;TZID=UTC:20250803T080000
DTEND;TZID=UTC:20250803T170000
DTSTAMP:20260420T071127
CREATED:20251004T114539Z
LAST-MODIFIED:20251004T114539Z
UID:7643-1754208000-1754240400@www.bandhfoundation.org
SUMMARY:Plants Distribution
DESCRIPTION:On July 31\, 2025\, fourth-year law students at Shahaji Law College\, Kolhapur\, visited the “Bandh Foundation” office as part of their training under their academic program and learned about the foundation’s work\, procedures\, and future plans. \nShri Arun Patil\, Founder President of Bandh Foundation\, gave information about the various activities being implemented through the foundation and future plans.\nAs part of their training\, on August 3\, 2025\, through “Bandh Foundation”\, they participated in distributing kadipatta plants (curry leaves) to womens at Nagala Park\, Kolhapur.
URL:https://www.bandhfoundation.org/event/plants-distribution/
LOCATION:Nagala Park\, Kolhapur.
ATTACH;FMTTYPE=image/jpeg:https://www.bandhfoundation.org/wp-content/uploads/2025/08/528075090_18060743165257096_8821701455104720996_n.jpg
ORGANIZER;CN="Bandh Foundation":MAILTO:contact@bandhfoundation.org
END:VEVENT
BEGIN:VEVENT
DTSTART;TZID=UTC:20250805T080000
DTEND;TZID=UTC:20250805T170000
DTSTAMP:20260420T071127
CREATED:20251004T115052Z
LAST-MODIFIED:20251004T115052Z
UID:7647-1754380800-1754413200@www.bandhfoundation.org
SUMMARY:Clothes Distribution
DESCRIPTION:On July 31\, 2025\, fourth-year law students of Shahaji Law College\, Kolhapur\, visited the “Bandh Foundation” office as part of their training under their academic program and learned about the foundation’s work\, procedures\, and future plans. \nShri Arun Patil\, Founder President of Bandh Foundation\, gave information about the various activities being implemented through the foundation and future plans. \nOn 5th August 2025\, they participated in distributing useful ready-made clothes to women and children of Rajendra nagar\, Kolhapur. Retired Forest Officer Shri Prakash Bagewadi was present for this program.
URL:https://www.bandhfoundation.org/event/clothes-distribution-2/
LOCATION:Rajendra Nagar \,Kolhapur
ORGANIZER;CN="Bandh Foundation":MAILTO:contact@bandhfoundation.org
END:VEVENT
BEGIN:VEVENT
DTSTART;TZID=UTC:20250819T080000
DTEND;TZID=UTC:20250819T170000
DTSTAMP:20260420T071127
CREATED:20251005T075213Z
LAST-MODIFIED:20251005T075213Z
UID:7682-1755590400-1755622800@www.bandhfoundation.org
SUMMARY:Notebooks donation to school students
DESCRIPTION:Today\, on 19/08/2025\, Free school notebooks were distributed by the “Bandh Foundation” Kolhapur \, to all the students of the Zilla Parishad school at Vidya Mandir Shantinagar\, Pachgaon \, Kolhapur\nBandh Foundation President Arun Patil\, volunteers Mrs. Sadhana Godse\, Omkar Patil\, school principal Mrs. Devthanekar and students were present for this program.
URL:https://www.bandhfoundation.org/event/notebooks-donation-to-school-students/
LOCATION:Zilla Parishad school at Vidya Mandir Shantinagar\, Pachgaon \, Kolhapur
ORGANIZER;CN="Bandh Foundation":MAILTO:contact@bandhfoundation.org
END:VEVENT
END:VCALENDAR