BEGIN:VCALENDAR
VERSION:2.0
PRODID:-//Bandh Foundation - ECPv6.2.4//NONSGML v1.0//EN
CALSCALE:GREGORIAN
METHOD:PUBLISH
X-WR-CALNAME:Bandh Foundation
X-ORIGINAL-URL:https://www.bandhfoundation.org
X-WR-CALDESC:Events for Bandh Foundation
REFRESH-INTERVAL;VALUE=DURATION:PT1H
X-Robots-Tag:noindex
X-PUBLISHED-TTL:PT1H
BEGIN:VTIMEZONE
TZID:UTC
BEGIN:STANDARD
TZOFFSETFROM:+0000
TZOFFSETTO:+0000
TZNAME:UTC
DTSTART:20210101T000000
END:STANDARD
END:VTIMEZONE
BEGIN:VEVENT
DTSTART;TZID=UTC:20240415T080000
DTEND;TZID=UTC:20240415T170000
DTSTAMP:20260420T054546
CREATED:20251004T110730Z
LAST-MODIFIED:20251004T110730Z
UID:7606-1713168000-1713200400@www.bandhfoundation.org
SUMMARY:Education
DESCRIPTION:15/4/2024 Takavade\, Taluka-Shirol\, District-Kolhapur\, a demand for chairs was made by “Shri Kalleshwar High School” Takavade of Rayat Shikshan Sanstha for the use of students. Mahesh Patil of “Runanubandh” Group at Takavade was in touch with “Bandh Foundation” regarding this. Considering the demand\, twenty-five chairs were provided to the said high school through “Bandh Foundation” Kolhapur. \nThe principal\, teachers\, students of Shri Kalleshwar High School and Ajit Kale of “Runanubandh” Group\, were present at the said program.
URL:https://www.bandhfoundation.org/event/education-5/
LOCATION:Takavade\, Taluka-Shirol\, District-Kolhapur
ORGANIZER;CN="Bandh Foundation":MAILTO:contact@bandhfoundation.org
END:VEVENT
BEGIN:VEVENT
DTSTART;TZID=UTC:20240401T080000
DTEND;TZID=UTC:20240401T170000
DTSTAMP:20260420T054546
CREATED:20251004T110516Z
LAST-MODIFIED:20251004T110516Z
UID:7604-1711958400-1711990800@www.bandhfoundation.org
SUMMARY:Education
DESCRIPTION:Today\, April 1\, 2024\, the students of “Sharad Krishi Mahavidyalaya” affiliated to “Mahatma Phule Krishi Vidyapeeth Rahuri” visited the “Bandh Foundation\, Kolhapur” office as part of their educational activities. The students\, who are studying in the final year of their agriculture degree\, were informed about the various activities implemented in the fields of education\, health and environment by “Bandh Foundation”\, as well as future planning of foundation\,by Shri Arun Patil\, the founder president of “Bandh Foundation”.
URL:https://www.bandhfoundation.org/event/education-4/
LOCATION:Office Address: 328 E Ward\, Shop No. A-6 Royal Plaza Dabholkar Chowk\, Shahupuri\, Kolhapur\, Maharashtra 416003
ORGANIZER;CN="Bandh Foundation":MAILTO:contact@bandhfoundation.org
END:VEVENT
BEGIN:VEVENT
DTSTART;TZID=UTC:20240308T080000
DTEND;TZID=UTC:20240308T170000
DTSTAMP:20260420T054546
CREATED:20251004T110301Z
LAST-MODIFIED:20251004T110301Z
UID:7601-1709884800-1709917200@www.bandhfoundation.org
SUMMARY:Women’s Day
DESCRIPTION:8 March 2024 On the occasion of International Women’s Day\, gifts were distributed to women through “Bandh Foundation” Kolhapur at Ravaneshwar Mahadev Temple\, near Chhatrapati Shahu Stadium\, Mangalwar Peth\, Kolhapur.\nThe program was attended by the founder president of the foundation\, Shri Arun Patil\, member Shri Omkar Patil\, volunteers Mrs. Rohini Dixit\, Nisha Patil and Shravani Todkar. Many women did not know that today is Women’s Day. \nThe women appreciated the initiative of “Bandh Foundation” by honoring them with gifts.
URL:https://www.bandhfoundation.org/event/womens-day/
LOCATION:Kolhapur at Ravaneshwar Mahadev Temple\, near Chhatrapati Shahu Stadium\, Mangalwar Peth\, Kolhapur.
ORGANIZER;CN="Bandh Foundation":MAILTO:contact@bandhfoundation.org
END:VEVENT
BEGIN:VEVENT
DTSTART;TZID=UTC:20240227T080000
DTEND;TZID=UTC:20240227T170000
DTSTAMP:20260420T054546
CREATED:20251004T105954Z
LAST-MODIFIED:20251004T105954Z
UID:7599-1709020800-1709053200@www.bandhfoundation.org
SUMMARY:Education
DESCRIPTION:Today\, on 27th February 2024\, students of Shahaji Law College Kolhapur visited the “Bandh Foundation” office as part of their training under their academic activities and got information about the work\, procedures and future plans of the foundation.\nShri Arun Patil\, Founder President of Bandh Foundation\, gave information about the various activities being implemented through the foundation and future plans.
URL:https://www.bandhfoundation.org/event/education-3/
LOCATION:Office Address: 328 E Ward\, Shop No. A-6 Royal Plaza Dabholkar Chowk\, Shahupuri\, Kolhapur\, Maharashtra 416003
ORGANIZER;CN="Bandh Foundation":MAILTO:contact@bandhfoundation.org
END:VEVENT
BEGIN:VEVENT
DTSTART;TZID=UTC:20231217T080000
DTEND;TZID=UTC:20231217T170000
DTSTAMP:20260420T054546
CREATED:20251004T105747Z
LAST-MODIFIED:20251004T105747Z
UID:7597-1702800000-1702832400@www.bandhfoundation.org
SUMMARY:Blankets Distribution
DESCRIPTION:17/12/2023 In the context of winter\, blankets were distributed to the poor and needy people in the central bus station\, railway station\, and the surrounding areas of Kolhapur city\, as well as to the poor and needy people in the shelter centers of the Municipal Corporation Kolhapur\,in collaboration with Bandh Foundation and Ashirwad Foundation Kolhapur.\nThe program was attended by Bandh Foundation President Shri Arun Patil and member Omkar Patil as well as Ashirwad Foundation President Subhash Yadav and Sarita Kamble\, Ramchandra Vagne\, Jyoti Yadav\, and Chhaya Yadav members.
URL:https://www.bandhfoundation.org/event/blankets-distribution/
LOCATION:Kolhapur
ORGANIZER;CN="Bandh Foundation":MAILTO:contact@bandhfoundation.org
END:VEVENT
BEGIN:VEVENT
DTSTART;TZID=UTC:20231124T080000
DTEND;TZID=UTC:20231124T170000
DTSTAMP:20260420T054546
CREATED:20251004T105316Z
LAST-MODIFIED:20251004T105316Z
UID:7595-1700812800-1700845200@www.bandhfoundation.org
SUMMARY:Tulsi Plant Distribution
DESCRIPTION:On the occasion of Tulsi Vivah\, free Tulsi saplings were distributed through “Bandh Foundation” Kolhapur on 24th November 2023 at Renuka Chowk\, Subhash Road\, Mangalwar Peth\, Kolhapur. \nThe people of Karveer responded spontaneously to get Tulsi saplings for free.\nB.G. Mangle and Vijay Patil of “Jagar Foundation” were present at the program.
URL:https://www.bandhfoundation.org/event/tulsi-plant-distribution-2/
LOCATION:Yellama Chowk\, Subhash Road\, M6PJ+86 Kolhapur\, Maharashtra\, Kolhapur\, Maharashtra\, 416012\, India
ORGANIZER;CN="Bandh Foundation":MAILTO:contact@bandhfoundation.org
END:VEVENT
BEGIN:VEVENT
DTSTART;TZID=UTC:20231106T080000
DTEND;TZID=UTC:20231106T170000
DTSTAMP:20260420T054546
CREATED:20251004T105045Z
LAST-MODIFIED:20251004T105045Z
UID:7592-1699257600-1699290000@www.bandhfoundation.org
SUMMARY:Clothes Distribution
DESCRIPTION:As per the plan\, ready-made useful clothes were distributed to the poor and needy people at Rajendra Nagar\, Kolhapur by dignitaries through “Bandh Foundation” on 6th November 2023. \nThe program was attended by the founder president of “Bandh Foundation” Shri Arun Patil\, member of the organization Shri Omkar Patil\, distinguished volunteer retired Divisional Forest Officer Shri Prakash Bagewadi\, and Kumari Shravani Todkar.\nThe poor and needy men\, women and children of Rajendra Nagar responded well to the clothes distribution program.
URL:https://www.bandhfoundation.org/event/clothes-distribution/
LOCATION:Rajendra Nagar \,Kolhapur
ORGANIZER;CN="Bandh Foundation":MAILTO:contact@bandhfoundation.org
END:VEVENT
BEGIN:VEVENT
DTSTART;TZID=UTC:20231022T080000
DTEND;TZID=UTC:20231022T170000
DTSTAMP:20260420T054546
CREATED:20251004T025852Z
LAST-MODIFIED:20251004T025852Z
UID:7588-1697961600-1697994000@www.bandhfoundation.org
SUMMARY:Environment
DESCRIPTION:Today\, Sunday\, October 22\, 2023\, free Tulsi saplings were distributed through “Bandh Foundation” Kolhapur at Renuka Temple premises\, Mangwar Peth\, Kolhapur. The residents of Karveer responded spontaneously to receive free Tulsi saplings.  \nFoundation volunteer Rohini Dixit\, founder member\, were present at the event. Thanks to everyone throu gh Bandh Foundation.
URL:https://www.bandhfoundation.org/event/environment/
LOCATION:Yellama Chowk\, Subhash Road\, M6PJ+86 Kolhapur\, Maharashtra\, Kolhapur\, Maharashtra\, 416012\, India
ORGANIZER;CN="Bandh Foundation":MAILTO:contact@bandhfoundation.org
END:VEVENT
BEGIN:VEVENT
DTSTART;TZID=UTC:20231017T080000
DTEND;TZID=UTC:20231017T170000
DTSTAMP:20260420T054546
CREATED:20251004T025600Z
LAST-MODIFIED:20251004T025600Z
UID:7585-1697529600-1697562000@www.bandhfoundation.org
SUMMARY:Education
DESCRIPTION:17/10/2023\, Students of Shahaji Law College\, Kolhapur\, as part of their training under their academic activities\, visited the office of “Bandh Foundation” and got information about the work\, working methods and future plans of the foundation.\nShri Arun Patil\, Founder President of Bandh Foundation\, gave information about the work done by the foundation since its inception as well as its future plans.
URL:https://www.bandhfoundation.org/event/education-2/
LOCATION:Office Address: 328 E Ward\, Shop No. A-6 Royal Plaza Dabholkar Chowk\, Shahupuri\, Kolhapur\, Maharashtra 416003
ORGANIZER;CN="Bandh Foundation":MAILTO:contact@bandhfoundation.org
END:VEVENT
BEGIN:VEVENT
DTSTART;TZID=UTC:20230905T080000
DTEND;TZID=UTC:20230905T170000
DTSTAMP:20260420T054546
CREATED:20251003T161533Z
LAST-MODIFIED:20251003T161533Z
UID:7582-1693900800-1693933200@www.bandhfoundation.org
SUMMARY:Education
DESCRIPTION:Today\, September 5\, 2023\, on the occasion of Teachers’ Day\, Sahyagiri Shikshan Sanstha\, Agashivnagar Sanchalit\, New English School\, Agashivnagar\, Malkapur Tal. Karad Dist. Satara High School was visited. \n  On the occasion of Teachers’ Day\, the teachers there were felicitated and the work of distributing benches to the students of that school was done through Bandh Foundation\, Kolhapur. \n  All the teachers of the school and the founder president of “Bandh Foundation Kolhapur” Shri Arun Patil\, retired teacher of Koyna Shikshan Sanstha\, Mrs. Shobha Panwal\, founder of Sahyagiri Shikshan Sanstha\, Salunkhe Sir\, students of the school and villagers were present at the program.
URL:https://www.bandhfoundation.org/event/education/
LOCATION:Malkapur Tal. Karad Dist. Satara\, India
ORGANIZER;CN="Bandh Foundation":MAILTO:contact@bandhfoundation.org
END:VEVENT
BEGIN:VEVENT
DTSTART;TZID=UTC:20230502T080000
DTEND;TZID=UTC:20230502T170000
DTSTAMP:20260420T054546
CREATED:20251003T161009Z
LAST-MODIFIED:20251003T161009Z
UID:7580-1683014400-1683046800@www.bandhfoundation.org
SUMMARY:Health
DESCRIPTION:May 2\, 2023  Devanand Umekar from Amravati requested help from “Bandh Foundation” Kolhapur for his family members’ serious illness. He was provided with financial assistance of Rs. 10\,000 through the foundation.\nShri Milind Toro\, a volunteer of “Bandh Foundation” from Amravati\, gave a cheque of Rs. 10\,000 to the Mayekar family.
URL:https://www.bandhfoundation.org/event/health/
ORGANIZER;CN="Bandh Foundation":MAILTO:contact@bandhfoundation.org
END:VEVENT
BEGIN:VEVENT
DTSTART;TZID=UTC:20230501T080000
DTEND;TZID=UTC:20230605T170000
DTSTAMP:20260420T054546
CREATED:20251003T160521Z
LAST-MODIFIED:20251003T160521Z
UID:7578-1682928000-1685984400@www.bandhfoundation.org
SUMMARY:Panpoi
DESCRIPTION:1 May 2023 The intensity of summer is increasing\,  we are starting “Panpoi”through “Bandh Foundation” Kolhapur\, at Renuka Chowk\, Subhash Road\, Mangalwar Peth\, Kolhapur. Passengers and residents of Karveer are requested to take advantage of Panpoi.
URL:https://www.bandhfoundation.org/event/panpoi-2/
LOCATION:Yellama Chowk\, Subhash Road\, M6PJ+86 Kolhapur\, Maharashtra\, Kolhapur\, Maharashtra\, 416012\, India
ORGANIZER;CN="Bandh Foundation":MAILTO:contact@bandhfoundation.org
END:VEVENT
BEGIN:VEVENT
DTSTART;TZID=UTC:20221105T080000
DTEND;TZID=UTC:20221105T080000
DTSTAMP:20260420T054546
CREATED:20221105T103013Z
LAST-MODIFIED:20251003T160104Z
UID:7573-1667635200-1667635200@www.bandhfoundation.org
SUMMARY:Tulsi Plant Distribution
DESCRIPTION:On the occasion of Tulsi Vivah on November 5\, 2022\, Tulsi saplings were distributed free of cost by “Bandh Foundation Kolhapur” at Mangalwar Peth Kolhapur. The distribution of saplings was done by the Chief Guest\, Divisional Forest Officer\, Social Forestry Department\, Kolhapur\, Mr. Chandanshive and his staff. Karveer residents gave a rousing response to the program. \nThe founder president of Bandh Foundation\, Mr. Arun Patil\, volunteers\, Rajaram Sunil Patil\, Omkar Chandrakant Patil were present.retired forest officer shree Dashrat Godase helped in the production of saplings.
URL:https://www.bandhfoundation.org/event/tulsi-plant-distribution/
LOCATION:Yellama Chowk\, Subhash Road\, M6PJ+86 Kolhapur\, Maharashtra\, Kolhapur\, Maharashtra\, 416012\, India
ORGANIZER;CN="Bandh Foundation":MAILTO:contact@bandhfoundation.org
END:VEVENT
BEGIN:VEVENT
DTSTART;TZID=UTC:20220812T080000
DTEND;TZID=UTC:20220812T170000
DTSTAMP:20260420T054546
CREATED:20251003T152427Z
LAST-MODIFIED:20251003T152427Z
UID:7569-1660291200-1660323600@www.bandhfoundation.org
SUMMARY:Uniform Donation
DESCRIPTION:On August 12\, 2022\, free uniforms were distributed to the poor needy students of “Valmiki Vidyalaya” at Davari-Bhalekar Wadi in Patan taluka of Satara district\, through Bandh Foundation Kolhapur. \nAmong the dignitaries\,founder president of BANDH FOUNDATION kolhapur\,shree Arun Patil\,retired principal of new english \,yerad\,tal-patan \,mr. pathan sir\,retired teacher of koyana education institute\,mrs.shobha panwal\,were present.All the teachers and students of valmiki school were present in the programme.On August 12\, 2022\, free uniforms were distributed to the poorneedy students of "Valmiki Vidyalaya" at Davari-Bhalekar Wadi inPatan taluka of Satara district\, through Bandh Foundation Kolhapur.
URL:https://www.bandhfoundation.org/event/uniform-donation/
LOCATION:Patan taluka of Satara\, India
ORGANIZER;CN="Bandh Foundation":MAILTO:contact@bandhfoundation.org
END:VEVENT
BEGIN:VEVENT
DTSTART;TZID=UTC:20220601T093000
DTEND;TZID=UTC:20220601T133000
DTSTAMP:20260420T054546
CREATED:20220416T054724Z
LAST-MODIFIED:20251004T125714Z
UID:7165-1654075800-1654090200@www.bandhfoundation.org
SUMMARY:Donating Back-to-School Kits to less privileged school children
DESCRIPTION:Bandh Foundation has organized event to donate Back-to-School kits containing stationary supplies and other essentials to the less privileged kids so that their learning journey never stops. \nParents to kindly register if your kid needs these kits to help them get back to school. \nClick the “Register for Event” link to register.
URL:https://www.bandhfoundation.org/event/back-to-school-kits-for-the-less-privileged/
LOCATION:Kolhapur
ATTACH;FMTTYPE=image/jpeg:https://www.bandhfoundation.org/wp-content/uploads/2022/04/back-to-school-supplies-giveaway.jpg
ORGANIZER;CN="Bandh Foundation":MAILTO:contact@bandhfoundation.org
END:VEVENT
BEGIN:VEVENT
DTSTART;TZID=UTC:20220503T000000
DTEND;TZID=UTC:20220603T235900
DTSTAMP:20260420T054546
CREATED:20220503T082702Z
LAST-MODIFIED:20251003T150439Z
UID:7565-1651536000-1654300740@www.bandhfoundation.org
SUMMARY:Panpoi
DESCRIPTION:The hotness of sun has increased the water needs of living\norganisms. In order to provide drinking water to the passengers due\nto summer\, "Bandh Foundation" has started 'Panpoi' at Yallama\nChowk\, Mangalwar Peth\, Kolhapur. The Bandh Foundation is\nappealing to the citizens and passengers to take advantage of it.
URL:https://www.bandhfoundation.org/event/panpoi/
LOCATION:Yellama Chowk\, Subhash Road\, M6PJ+86 Kolhapur\, Maharashtra\, Kolhapur\, Maharashtra\, 416012\, India
ATTACH;FMTTYPE=image/jpeg:https://www.bandhfoundation.org/wp-content/uploads/2022/05/280340328_530812032008912_9022966753316630683_n.jpg
ORGANIZER;CN="Bandh Foundation":MAILTO:contact@bandhfoundation.org
END:VEVENT
BEGIN:VEVENT
DTSTART;VALUE=DATE:20220308
DTEND;VALUE=DATE:20220309
DTSTAMP:20260420T054546
CREATED:20220415T111755Z
LAST-MODIFIED:20220428T074803Z
UID:7068-1646697600-1646783999@www.bandhfoundation.org
SUMMARY:Women's Day 2022 Celebration
DESCRIPTION:Bandh Foundation has organized a Women’s Day 2022 event to donate small gift items and Haldi Kumkum to women devotees at Shree Mahalakshmi Ambabai temple. \nWe encourage your active participation to make this event a success and help us in spreading awareness about women’s contribution in the development of our society. \nKindly register to receive a special gift.
URL:https://www.bandhfoundation.org/event/womens-day-2022-celebration/
LOCATION:Shree Mahalakshmi Ambabai Temple\, Kolhapur\, M6VF+V5 Kolhapur\, Maharashtra\, Kolhapur\, Maharashtra\, 416012\, India
ATTACH;FMTTYPE=image/jpeg:https://www.bandhfoundation.org/wp-content/uploads/2022/04/275469320_491732262583556_4670096598746483575_n.jpg
ORGANIZER;CN="Bandh Foundation":MAILTO:contact@bandhfoundation.org
END:VEVENT
BEGIN:VEVENT
DTSTART;VALUE=DATE:20210731
DTEND;VALUE=DATE:20210801
DTSTAMP:20260420T054546
CREATED:20210730T055446Z
LAST-MODIFIED:20220428T100758Z
UID:6106-1627689600-1627775999@www.bandhfoundation.org
SUMMARY:Food Donation Drive for Corona Warriors at CPR
DESCRIPTION:Bandh Foundation organized a food donation drive at CPR Hospital\, Kolhapur. Covid-19 second wave had already peaked\, and the number of cases had started to reduce. This drive was held as a mark of respect for Corona Warriors (Doctors\, Nurses\, Cleaning staff and support staff) at CPR hospital\, who showed tremendous resilience in managing healthcare facilities to treat huge inflow of corona patients during second wave. \nBandh Foundation salutes all Corona Warriors around the country for keeping our citizens safe during difficult times of the Covid-19 pandemic.
URL:https://www.bandhfoundation.org/event/food-donation-drive/
LOCATION:CPR Hospital\, Kolhapur\, P62G+MF Kolhapur\, Maharashtra\, Kolhapur\, Maharashtra\, 416001\, India
ATTACH;FMTTYPE=image/jpeg:https://www.bandhfoundation.org/wp-content/uploads/2022/03/4-4.jpg
ORGANIZER;CN="Bandh Foundation":MAILTO:contact@bandhfoundation.org
END:VEVENT
BEGIN:VEVENT
DTSTART;VALUE=DATE:20210724
DTEND;VALUE=DATE:20210725
DTSTAMP:20260420T054546
CREATED:20210723T054701Z
LAST-MODIFIED:20220428T075043Z
UID:6103-1627084800-1627171199@www.bandhfoundation.org
SUMMARY:Flood Relief Campaign
DESCRIPTION:Bandh Foundation conducted a Flood Relief Campaign to offer support to people from Chikhali Village in Kolhapur district\, who were affected due to flooding of Panchaganga River. These people were almost left homeless because their homes were more than 50% submerged under flood water and they had nowhere to go. Government of Maharashtra mobilized the affected people to other locations to protect them from floods. One such group of people were given temporary accommodation at Kalyani Hall in Budhwar Peth Kolhapur. \nBandh Foundation approached these people to offer help. We prepared and served breakfast for the people who had no means or resource to cook their own food.
URL:https://www.bandhfoundation.org/event/flood-relief-campaign/
LOCATION:Kalyani Hall\, Kolhapur\, P639+FV Kolhapur\, Maharashtra\, Kolhapur\, Maharashtra\, 416003\, India
ATTACH;FMTTYPE=image/jpeg:https://www.bandhfoundation.org/wp-content/uploads/2022/03/IMG_20210724_112505-scaled.jpg
ORGANIZER;CN="Bandh Foundation":MAILTO:contact@bandhfoundation.org
END:VEVENT
BEGIN:VEVENT
DTSTART;VALUE=DATE:20210706
DTEND;VALUE=DATE:20210707
DTSTAMP:20260420T054546
CREATED:20210705T054121Z
LAST-MODIFIED:20220428T100806Z
UID:6100-1625529600-1625615999@www.bandhfoundation.org
SUMMARY:Plant Donation Drive on Agriculture Day
DESCRIPTION:Bandh Foundation organized a plant donation drive on the occasion of Maharashtra Agriculture Day\, to highlight importance of planting trees to protect our environment. We donated over 200 live plants of Tulsi and Curry Leaves. These plants also offer several health benefits apart from the benefits that plants in general offer. You can read our blog on health benefits of Tulsi and Curry leaves here. \nBandh Foundation organizes such drives to imbibe in the minds of our citizens\, the importance of planting trees especially at a time when our planet if facing adverse effects of Climate Change.
URL:https://www.bandhfoundation.org/event/plant-donation-drive/
LOCATION:Yellama Chowk\, Subhash Road\, M6PJ+86 Kolhapur\, Maharashtra\, Kolhapur\, Maharashtra\, 416012\, India
ATTACH;FMTTYPE=image/jpeg:https://www.bandhfoundation.org/wp-content/uploads/2022/03/2-4-scaled.jpg
ORGANIZER;CN="Bandh Foundation":MAILTO:contact@bandhfoundation.org
END:VEVENT
BEGIN:VEVENT
DTSTART;VALUE=DATE:20210617
DTEND;VALUE=DATE:20210618
DTSTAMP:20260420T054546
CREATED:20210615T053532Z
LAST-MODIFIED:20251004T124707Z
UID:6096-1623888000-1623974399@www.bandhfoundation.org
SUMMARY:Food Donation Drive at CPR Hospital Kolhapur
DESCRIPTION:Bandh Foundation organized a food donation drive at CPR Hospital\, Kolhapur. This drive was held at a time when Covid-19 second wave was at its peak and there were several restrictions in place on mobility. Add to that the severe burden on hospitals to care of positive patients. While so many patients were admitted to CPR hospital\, we observed that the relatives of patients\, who were at the hospital to support their family members\, faced difficulties due to poor basic facilities at the hospital. They were finding it hard to get even food and water since restaurants in the vicinity we closed due to lockdowns. \nBandh Foundation therefore decided to help fellow citizens by distributing cooked food packets and water bottle. We distributed more than 100 water bottles and food packets which we cooked in the foundation’s own kitchen. Our volunteers helped in packing the food\, loading and unloading cartons at the hospital and in its distribution to the needy.
URL:https://www.bandhfoundation.org/event/food-donation-drive-2/
LOCATION:CPR Hospital\, Kolhapur\, P62G+MF Kolhapur\, Maharashtra\, Kolhapur\, Maharashtra\, 416001\, India
ATTACH;FMTTYPE=image/jpeg:https://www.bandhfoundation.org/wp-content/uploads/2022/03/5-1.jpg
ORGANIZER;CN="Bandh Foundation":MAILTO:contact@bandhfoundation.org
END:VEVENT
END:VCALENDAR