BEGIN:VCALENDAR
VERSION:2.0
PRODID:-//Bandh Foundation - ECPv6.2.4//NONSGML v1.0//EN
CALSCALE:GREGORIAN
METHOD:PUBLISH
X-WR-CALNAME:Bandh Foundation
X-ORIGINAL-URL:https://www.bandhfoundation.org
X-WR-CALDESC:Events for Bandh Foundation
REFRESH-INTERVAL;VALUE=DURATION:PT1H
X-Robots-Tag:noindex
X-PUBLISHED-TTL:PT1H
BEGIN:VTIMEZONE
TZID:UTC
BEGIN:STANDARD
TZOFFSETFROM:+0000
TZOFFSETTO:+0000
TZNAME:UTC
DTSTART:20250101T000000
END:STANDARD
END:VTIMEZONE
BEGIN:VEVENT
DTSTART;VALUE=DATE:20251219
DTEND;VALUE=DATE:20251220
DTSTAMP:20260420T002220
CREATED:20260222T160015Z
LAST-MODIFIED:20260222T160015Z
UID:7738-1766102400-1766188799@www.bandhfoundation.org
SUMMARY:Education
DESCRIPTION:Today\, visited Rajarshi Shahu Education Promotion Board’s Shivaji Vidyaniketan Ganeshwadi \, Taluka-Karveer District-Kolhapur.\nTanvi Patil\, a student from Symbiosis Law College Nagpur\, was with him. She guided the students about healthy lifestyle\, climate pollution control and environmental conservation measures.\n10 kg of poha was provided to the residential students of the school through “Bandh Foundation” Kolhapur.\nThe program was attended by the founder president of “Bandh Foundation” Kolhapur\, Shri Arun Patil\, member Shri Omkar Patil\, founder of the school Shri Namdev Yadav Sir\, teachers and students.
URL:https://www.bandhfoundation.org/event/education-11/
END:VEVENT
END:VCALENDAR