BEGIN:VCALENDAR
VERSION:2.0
PRODID:-//Bandh Foundation - ECPv6.2.4//NONSGML v1.0//EN
CALSCALE:GREGORIAN
METHOD:PUBLISH
X-WR-CALNAME:Bandh Foundation
X-ORIGINAL-URL:https://www.bandhfoundation.org
X-WR-CALDESC:Events for Bandh Foundation
REFRESH-INTERVAL;VALUE=DURATION:PT1H
X-Robots-Tag:noindex
X-PUBLISHED-TTL:PT1H
BEGIN:VTIMEZONE
TZID:UTC
BEGIN:STANDARD
TZOFFSETFROM:+0000
TZOFFSETTO:+0000
TZNAME:UTC
DTSTART:20250101T000000
END:STANDARD
END:VTIMEZONE
BEGIN:VEVENT
DTSTART;VALUE=DATE:20251210
DTEND;VALUE=DATE:20251211
DTSTAMP:20260420T015703
CREATED:20260222T155343Z
LAST-MODIFIED:20260222T155343Z
UID:7732-1765324800-1765411199@www.bandhfoundation.org
SUMMARY:Education
DESCRIPTION:today\, a lecture on “personal hygiene and mental health “ was scheduled at “Valmiki Vidyalaya “ \, Dawari- Bhalekar Wadi \, Taluka- Patan district-Satara by “Bandh Foundation “ Kolhapur.\n Tanvi Patil \, A student of symbiosis law college  Nagpur \, lead this project and guided the students of the Valmiki vidyalaya.\nStudents of “Valamiki Vidyalaya” and teachers were present for this program.
URL:https://www.bandhfoundation.org/event/education-10/
END:VEVENT
END:VCALENDAR