BEGIN:VCALENDAR
VERSION:2.0
PRODID:-//Bandh Foundation - ECPv6.2.4//NONSGML v1.0//EN
CALSCALE:GREGORIAN
METHOD:PUBLISH
X-WR-CALNAME:Bandh Foundation
X-ORIGINAL-URL:https://www.bandhfoundation.org
X-WR-CALDESC:Events for Bandh Foundation
REFRESH-INTERVAL;VALUE=DURATION:PT1H
X-Robots-Tag:noindex
X-PUBLISHED-TTL:PT1H
BEGIN:VTIMEZONE
TZID:UTC
BEGIN:STANDARD
TZOFFSETFROM:+0000
TZOFFSETTO:+0000
TZNAME:UTC
DTSTART:20250101T000000
END:STANDARD
END:VTIMEZONE
BEGIN:VEVENT
DTSTART;TZID=UTC:20250805T080000
DTEND;TZID=UTC:20250805T170000
DTSTAMP:20260420T072732
CREATED:20251004T115052Z
LAST-MODIFIED:20251004T115052Z
UID:7647-1754380800-1754413200@www.bandhfoundation.org
SUMMARY:Clothes Distribution
DESCRIPTION:On July 31\, 2025\, fourth-year law students of Shahaji Law College\, Kolhapur\, visited the “Bandh Foundation” office as part of their training under their academic program and learned about the foundation’s work\, procedures\, and future plans. \nShri Arun Patil\, Founder President of Bandh Foundation\, gave information about the various activities being implemented through the foundation and future plans. \nOn 5th August 2025\, they participated in distributing useful ready-made clothes to women and children of Rajendra nagar\, Kolhapur. Retired Forest Officer Shri Prakash Bagewadi was present for this program.
URL:https://www.bandhfoundation.org/event/clothes-distribution-2/
LOCATION:Rajendra Nagar \,Kolhapur
ORGANIZER;CN="Bandh Foundation":MAILTO:contact@bandhfoundation.org
END:VEVENT
END:VCALENDAR