BEGIN:VCALENDAR
VERSION:2.0
PRODID:-//Bandh Foundation - ECPv6.2.4//NONSGML v1.0//EN
CALSCALE:GREGORIAN
METHOD:PUBLISH
X-ORIGINAL-URL:https://www.bandhfoundation.org
X-WR-CALDESC:Events for Bandh Foundation
REFRESH-INTERVAL;VALUE=DURATION:PT1H
X-Robots-Tag:noindex
X-PUBLISHED-TTL:PT1H
BEGIN:VTIMEZONE
TZID:UTC
BEGIN:STANDARD
TZOFFSETFROM:+0000
TZOFFSETTO:+0000
TZNAME:UTC
DTSTART:20250101T000000
END:STANDARD
END:VTIMEZONE
BEGIN:VEVENT
DTSTART;TZID=UTC:20250504T080000
DTEND;TZID=UTC:20250612T170000
DTSTAMP:20260420T113325
CREATED:20251004T113329Z
LAST-MODIFIED:20251004T113329Z
UID:7632-1746345600-1749747600@www.bandhfoundation.org
SUMMARY:Panpoi
DESCRIPTION:In the backdrop of hot summer and water shortage\, we are starting “Panpoi” at Yallama Chowk\, Subhash Road\, Mangwar Peth\, Kolhapur through “Bandh Foundation\, Kolhapur”. \nThe program was inaugurated by retired forest officer Shri Prakash Bagewadi. The program was attended by volunteers of “Bandh Foundation” as well as Vice President Kolhapur Civil Engineers and Contractors Association\, Kolhapur\, Mr. Subhash Mandlik . Appeal to the residents and travelers of Karveer to take advantage of pure drinking water. \nIt is being implemented through “Bandh Foundation”\, Kolhapur.
URL:https://www.bandhfoundation.org/event/panpoi-4/
LOCATION:Yellama Chowk\, Subhash Road\, M6PJ+86 Kolhapur\, Maharashtra\, Kolhapur\, Maharashtra\, 416012\, India
ORGANIZER;CN="Bandh Foundation":MAILTO:contact@bandhfoundation.org
END:VEVENT
BEGIN:VEVENT
DTSTART;TZID=UTC:20250608T080000
DTEND;TZID=UTC:20250608T170000
DTSTAMP:20260420T113325
CREATED:20251004T113815Z
LAST-MODIFIED:20251004T113815Z
UID:7636-1749369600-1749402000@www.bandhfoundation.org
SUMMARY:Notebook Donation
DESCRIPTION:Today\, free school notebooks\, compasses\, and pens were distributed to poor and needy children from 3rd to 10th standard through Bandh Foundation\, Kolhapur.\nThe program was attended by the founder president of Bandh Foundation\, Arun Patil\, member Omkar Patil\, as well as Diliprao Thorat\, and beneficiary student boys and girls.
URL:https://www.bandhfoundation.org/event/notebook-donation/
LOCATION:Office Address: 328 E Ward\, Shop No. A-6 Royal Plaza Dabholkar Chowk\, Shahupuri\, Kolhapur\, Maharashtra 416003
ORGANIZER;CN="Bandh Foundation":MAILTO:contact@bandhfoundation.org
END:VEVENT
END:VCALENDAR